BEGIN:VCALENDAR
VERSION:2.0
PRODID:-//wp-events-plugin.com//7.2.3.1//EN
TZID:America/New_York
X-WR-TIMEZONE:America/New_York
BEGIN:VEVENT
UID:731@rsns.org
DTSTART;TZID=America/New_York:20250323T160000
DTEND;TZID=America/New_York:20250323T190000
DTSTAMP:20250317T170654Z
URL:https://www.rsns.org/events/womens-seder-in-person-virtual/
SUMMARY:Women's Seder - (In-Person & Virtual)
DESCRIPTION:Location:  Sanctuary &amp\; Social Hall
CATEGORIES:Programs
LOCATION:https://zoom.us/j/531710576
END:VEVENT
BEGIN:VTIMEZONE
TZID:America/New_York
X-LIC-LOCATION:America/New_York
BEGIN:DAYLIGHT
DTSTART:20250309T030000
TZOFFSETFROM:-0500
TZOFFSETTO:-0400
TZNAME:EDT
END:DAYLIGHT
END:VTIMEZONE
END:VCALENDAR