BEGIN:VCALENDAR
VERSION:2.0
PRODID:-//wp-events-plugin.com//7.2.3.1//EN
TZID:America/New_York
X-WR-TIMEZONE:America/New_York
BEGIN:VEVENT
UID:1567@rsns.org
DTSTART;TZID=America/New_York:20260513T193000
DTEND;TZID=America/New_York:20260513T210000
DTSTAMP:20250501T200006Z
URL:https://www.rsns.org/events/womens-rosh-hodesh-emoonah-in-person-virtu
 al-18/
SUMMARY:Women’s Rosh Hodesh: eMOONah – (In-Person & Virtual)
DESCRIPTION:Connect.  Engage.  Serve.\n\nMonthly Renewal Moment\, Women
 ’s Rosh Hodesh\n\n&nbsp\;
CATEGORIES:Programs
LOCATION:https://zoom.us/j/531710576
END:VEVENT
BEGIN:VTIMEZONE
TZID:America/New_York
X-LIC-LOCATION:America/New_York
BEGIN:DAYLIGHT
DTSTART:20260308T030000
TZOFFSETFROM:-0500
TZOFFSETTO:-0400
TZNAME:EDT
END:DAYLIGHT
END:VTIMEZONE
END:VCALENDAR