BEGIN:VCALENDAR
VERSION:2.0
PRODID:-//wp-events-plugin.com//7.2.3.1//EN
TZID:America/New_York
X-WR-TIMEZONE:America/New_York
BEGIN:VEVENT
UID:2186@rsns.org
DTSTART;TZID=America/New_York:20260807T160000
DTEND;TZID=America/New_York:20270827T171500
DTSTAMP:20260422T200047Z
URL:https://www.rsns.org/events/shabbat-yoga-in-person-virtual-10/
SUMMARY:NO Shabbat Yoga - (In-Person & Virtual)
DESCRIPTION:
CATEGORIES:Programs
LOCATION:https://zoom.us/j/531710576
END:VEVENT
BEGIN:VTIMEZONE
TZID:America/New_York
X-LIC-LOCATION:America/New_York
BEGIN:DAYLIGHT
DTSTART:20260308T030000
TZOFFSETFROM:-0500
TZOFFSETTO:-0400
TZNAME:EDT
END:DAYLIGHT
BEGIN:STANDARD
DTSTART:20261101T010000
TZOFFSETFROM:-0400
TZOFFSETTO:-0500
TZNAME:EST
END:STANDARD
BEGIN:DAYLIGHT
DTSTART:20270314T030000
TZOFFSETFROM:-0500
TZOFFSETTO:-0400
TZNAME:EDT
END:DAYLIGHT
END:VTIMEZONE
END:VCALENDAR