BEGIN:VCALENDAR
VERSION:2.0
PRODID:-//wp-events-plugin.com//7.2.3.1//EN
TZID:America/New_York
X-WR-TIMEZONE:America/New_York
BEGIN:VEVENT
UID:2023@rsns.org
DTSTART;TZID=America/New_York:20261127T193000
DTEND;TZID=America/New_York:20261127T210000
DTSTAMP:20251113T192058Z
URL:https://www.rsns.org/events/shabbat-services-in-person-virtual-2026-11
 -27/
SUMMARY:Shabbat Services - (In-Person & Virtual)
DESCRIPTION:
CATEGORIES:Services
LOCATION:https://zoom.us/j/531710576
END:VEVENT
BEGIN:VTIMEZONE
TZID:America/New_York
X-LIC-LOCATION:America/New_York
BEGIN:STANDARD
DTSTART:20261101T010000
TZOFFSETFROM:-0400
TZOFFSETTO:-0500
TZNAME:EST
END:STANDARD
END:VTIMEZONE
END:VCALENDAR