BEGIN:VCALENDAR
VERSION:2.0
PRODID:-//wp-events-plugin.com//7.2.3.1//EN
TZID:America/New_York
X-WR-TIMEZONE:America/New_York
BEGIN:VEVENT
UID:1781@rsns.org
DTSTART;TZID=America/New_York:20260425T190000
DTEND;TZID=America/New_York:20260425T213000
DTSTAMP:20260318T200317Z
URL:https://www.rsns.org/events/or-hadash-in-person-8/
SUMMARY:Or Hadash - Off-Site - (In-Person)
DESCRIPTION:Participants get together for ice cream\, Havdalah movie nights
 \, games\, and a trip to volunteer at a Jewish soup kitchen in NYC.\n\n&nb
 sp\;
CATEGORIES:Programs
END:VEVENT
BEGIN:VTIMEZONE
TZID:America/New_York
X-LIC-LOCATION:America/New_York
BEGIN:DAYLIGHT
DTSTART:20260308T030000
TZOFFSETFROM:-0500
TZOFFSETTO:-0400
TZNAME:EDT
END:DAYLIGHT
END:VTIMEZONE
END:VCALENDAR