BEGIN:VCALENDAR
VERSION:2.0
PRODID:-//wp-events-plugin.com//7.2.3.1//EN
TZID:America/New_York
X-WR-TIMEZONE:America/New_York
BEGIN:VEVENT
UID:2144@rsns.org
DTSTART;TZID=America/New_York:20260522T160000
DTEND;TZID=America/New_York:20260522T171500
DTSTAMP:20260415T164637Z
URL:https://www.rsns.org/events/no-shabbat-yoga-4/
SUMMARY:NO Shabbat Yoga
DESCRIPTION:Location:  Blue Room
CATEGORIES:Programs
LOCATION:https://zoom.us/j/531710576
END:VEVENT
BEGIN:VTIMEZONE
TZID:America/New_York
X-LIC-LOCATION:America/New_York
BEGIN:DAYLIGHT
DTSTART:20260308T030000
TZOFFSETFROM:-0500
TZOFFSETTO:-0400
TZNAME:EDT
END:DAYLIGHT
END:VTIMEZONE
END:VCALENDAR