BEGIN:VCALENDAR
VERSION:2.0
PRODID:-//wp-events-plugin.com//7.2.3.1//EN
TZID:America/New_York
X-WR-TIMEZONE:America/New_York
BEGIN:VEVENT
UID:2147@rsns.org
DTSTART;TZID=America/New_York:20260423T193000
DTEND;TZID=America/New_York:20260423T213000
DTSTAMP:20260416T155014Z
URL:https://www.rsns.org/events/mah-jong-night-in-person/
SUMMARY:Mah Jong Night - (In-Person)
DESCRIPTION:Join us for a delightful evening of tils\, laughter\, and good 
 company!\nKnow how to play\, but still a beginner?  No problem!\nA Mah Jo
 ng coach will be on hand to guide newer players through the game.
CATEGORIES:Of Interest
END:VEVENT
BEGIN:VTIMEZONE
TZID:America/New_York
X-LIC-LOCATION:America/New_York
BEGIN:DAYLIGHT
DTSTART:20260308T030000
TZOFFSETFROM:-0500
TZOFFSETTO:-0400
TZNAME:EDT
END:DAYLIGHT
END:VTIMEZONE
END:VCALENDAR