BEGIN:VCALENDAR
VERSION:2.0
PRODID:-//wp-events-plugin.com//7.2.3.1//EN
TZID:America/New_York
X-WR-TIMEZONE:America/New_York
BEGIN:VEVENT
UID:1493@rsns.org
DTSTART;TZID=America/New_York:20250913T090000
DTEND;TZID=America/New_York:20250913T160000
DTSTAMP:20250501T175416Z
URL:https://www.rsns.org/events/kadima-retreat-in-person-2/
SUMMARY:Kadima - Retreat - (In-person)
DESCRIPTION:7th-grade weekly meeting\, which is designed to encourage the d
 evelopment of Jewish identity. Parents join the classes once a month\, and
  the class starts with a day-long family retreat.\n\n&nbsp\;\n\nSands Poin
 t Preserve Conservancy 127 Middle Neck Road\, Sands Point\, 11050
CATEGORIES:The Synagogue School
END:VEVENT
BEGIN:VTIMEZONE
TZID:America/New_York
X-LIC-LOCATION:America/New_York
BEGIN:DAYLIGHT
DTSTART:20250309T030000
TZOFFSETFROM:-0500
TZOFFSETTO:-0400
TZNAME:EDT
END:DAYLIGHT
END:VTIMEZONE
END:VCALENDAR