BEGIN:VCALENDAR
VERSION:2.0
PRODID:-//wp-events-plugin.com//7.2.3.1//EN
TZID:America/New_York
X-WR-TIMEZONE:America/New_York
BEGIN:VEVENT
UID:2128@rsns.org
DTSTART;TZID=America/New_York:20260527T200000
DTEND;TZID=America/New_York:20260527T213000
DTSTAMP:20260318T145026Z
URL:https://www.rsns.org/events/israel-book-discussion-israel-virtual-only
 /
SUMMARY:Israel Book Discussion - Israel - (Virtual Only)
DESCRIPTION:Book:  Can We Talk About Israel?: A Guide for the Curious\, Co
 nfused\, and Conflicted\n\nAuthor:  Daniel Sokatch
CATEGORIES:Of Interest
LOCATION:https://us02web.zoom.us/j/8019291930
END:VEVENT
BEGIN:VTIMEZONE
TZID:America/New_York
X-LIC-LOCATION:America/New_York
BEGIN:DAYLIGHT
DTSTART:20260308T030000
TZOFFSETFROM:-0500
TZOFFSETTO:-0400
TZNAME:EDT
END:DAYLIGHT
END:VTIMEZONE
END:VCALENDAR