BEGIN:VCALENDAR
VERSION:2.0
PRODID:-//wp-events-plugin.com//7.2.3.1//EN
TZID:America/New_York
X-WR-TIMEZONE:America/New_York
BEGIN:VEVENT
UID:1661@rsns.org
DTSTART;TZID=America/New_York:20260505T193000
DTEND;TZID=America/New_York:20260505T203000
DTSTAMP:20251113T204101Z
URL:https://www.rsns.org/events/gan-shalom-advisory-committee-meeting-virt
 ual-only-3/
SUMMARY:Gan Shalom Advisory Committee Meeting - (Virtual Only)
DESCRIPTION:
CATEGORIES:Gan Shalom Nursery School
LOCATION:https://us02web.zoom.us/j/8019291930
END:VEVENT
BEGIN:VTIMEZONE
TZID:America/New_York
X-LIC-LOCATION:America/New_York
BEGIN:DAYLIGHT
DTSTART:20260308T030000
TZOFFSETFROM:-0500
TZOFFSETTO:-0400
TZNAME:EDT
END:DAYLIGHT
END:VTIMEZONE
END:VCALENDAR