BEGIN:VCALENDAR
VERSION:2.0
PRODID:-//wp-events-plugin.com//7.2.3.1//EN
TZID:America/New_York
X-WR-TIMEZONE:America/New_York
BEGIN:VEVENT
UID:1259@rsns.org
DTSTART;TZID=America/New_York:20260506T193000
DTEND;TZID=America/New_York:20260506T213000
DTSTAMP:20250501T134217Z
URL:https://www.rsns.org/events/executive-committee-meeting-in-person-virt
 ual-17/
SUMMARY:Executive Committee Meeting - (In-person & Virtual)
DESCRIPTION:
CATEGORIES:Committee &amp; Board Meetings
LOCATION:https://zoom.us/j/531710576
END:VEVENT
BEGIN:VTIMEZONE
TZID:America/New_York
X-LIC-LOCATION:America/New_York
BEGIN:DAYLIGHT
DTSTART:20260308T030000
TZOFFSETFROM:-0500
TZOFFSETTO:-0400
TZNAME:EDT
END:DAYLIGHT
END:VTIMEZONE
END:VCALENDAR