BEGIN:VCALENDAR
VERSION:2.0
PRODID:-//wp-events-plugin.com//7.2.3.1//EN
TZID:America/New_York
X-WR-TIMEZONE:America/New_York
BEGIN:VEVENT
UID:1827@rsns.org
DTSTART;TZID=America/New_York:20260521T200000
DTEND;TZID=America/New_York:20260521T220000
DTSTAMP:20250507T202147Z
URL:https://www.rsns.org/events/erev-shavuot-services-including-yizkor-tik
 kun-in-person-virtual/
SUMMARY:Erev Shavuot Services Including Yizkor & Tikkun - (In-Person & Virt
 ual)
DESCRIPTION:
CATEGORIES:Services
LOCATION:https://zoom.us/j/531710576
END:VEVENT
BEGIN:VTIMEZONE
TZID:America/New_York
X-LIC-LOCATION:America/New_York
BEGIN:DAYLIGHT
DTSTART:20260308T030000
TZOFFSETFROM:-0500
TZOFFSETTO:-0400
TZNAME:EDT
END:DAYLIGHT
END:VTIMEZONE
END:VCALENDAR