BEGIN:VCALENDAR
VERSION:2.0
PRODID:-//wp-events-plugin.com//7.2.3.1//EN
TZID:America/New_York
X-WR-TIMEZONE:America/New_York
BEGIN:VEVENT
UID:2273@rsns.org
DTSTART;TZID=America/New_York:20270513T120000
DTEND;TZID=America/New_York:20270513T130000
DTSTAMP:20260422T195930Z
URL:https://www.rsns.org/events/engaging-with-aging-in-person-virtual-32/
SUMMARY:Engaging with Aging - (In-Person & Virtual)
DESCRIPTION:
CATEGORIES:Programs
LOCATION:https://zoom.us/j/531710576
END:VEVENT
BEGIN:VTIMEZONE
TZID:America/New_York
X-LIC-LOCATION:America/New_York
BEGIN:DAYLIGHT
DTSTART:20270314T030000
TZOFFSETFROM:-0500
TZOFFSETTO:-0400
TZNAME:EDT
END:DAYLIGHT
END:VTIMEZONE
END:VCALENDAR