BEGIN:VCALENDAR
VERSION:2.0
PRODID:-//wp-events-plugin.com//7.2.3.1//EN
TZID:America/New_York
X-WR-TIMEZONE:America/New_York
BEGIN:VEVENT
UID:1674@rsns.org
DTSTART;TZID=America/New_York:20260424T180000
DTEND;TZID=America/New_York:20260424T193000
DTSTAMP:20251015T193125Z
URL:https://www.rsns.org/events/cantors-dinner-in-person-19/
SUMMARY:Cantor's Dinner - (In-Person)
DESCRIPTION:$18 per person for a full Shabbat meal at 6:30pm\, followed by 
 a study session with Cantor Eric\, in-person and Zoom by request.\n\nClick
  here to register
CATEGORIES:Programs
END:VEVENT
BEGIN:VTIMEZONE
TZID:America/New_York
X-LIC-LOCATION:America/New_York
BEGIN:DAYLIGHT
DTSTART:20260308T030000
TZOFFSETFROM:-0500
TZOFFSETTO:-0400
TZNAME:EDT
END:DAYLIGHT
END:VTIMEZONE
END:VCALENDAR