BEGIN:VCALENDAR
VERSION:2.0
PRODID:-//wp-events-plugin.com//7.2.3.1//EN
TZID:America/New_York
X-WR-TIMEZONE:America/New_York
BEGIN:VEVENT
UID:684@rsns.org
DTSTART;TZID=America/New_York:20270501T094500
DTEND;TZID=America/New_York:20270501T120000
DTSTAMP:20240617T141715Z
URL:https://www.rsns.org/events/bat-mitzvah-annie-kuritzky-in-person-virtu
 al/
SUMMARY:Bat Mitzvah - Annie Kuritzky - (In-Person & Virtual)
DESCRIPTION:https://zoom.us/j/531710576\n\nMeeting ID: 531 710 576
CATEGORIES:Services
END:VEVENT
BEGIN:VTIMEZONE
TZID:America/New_York
X-LIC-LOCATION:America/New_York
BEGIN:DAYLIGHT
DTSTART:20270314T030000
TZOFFSETFROM:-0500
TZOFFSETTO:-0400
TZNAME:EDT
END:DAYLIGHT
END:VTIMEZONE
END:VCALENDAR