BEGIN:VCALENDAR
VERSION:2.0
PRODID:-//wp-events-plugin.com//7.2.3.1//EN
TZID:America/New_York
X-WR-TIMEZONE:America/New_York
BEGIN:VEVENT
UID:679@rsns.org
DTSTART;TZID=America/New_York:20270109T094500
DTEND;TZID=America/New_York:20270109T120000
DTSTAMP:20240617T141240Z
URL:https://www.rsns.org/events/bar-mitzvah-jacob-platt/
SUMMARY:Bar Mitzvah - Jacob Platt - (In-Person & Virtual)
DESCRIPTION:https://zoom.us/j/531710576\n\nMeeting ID: 531 710 576
CATEGORIES:Services
END:VEVENT
BEGIN:VTIMEZONE
TZID:America/New_York
X-LIC-LOCATION:America/New_York
BEGIN:STANDARD
DTSTART:20261101T010000
TZOFFSETFROM:-0400
TZOFFSETTO:-0500
TZNAME:EST
END:STANDARD
END:VTIMEZONE
END:VCALENDAR