BEGIN:VCALENDAR
VERSION:2.0
PRODID:-//wp-events-plugin.com//7.2.3.1//EN
TZID:America/New_York
X-WR-TIMEZONE:America/New_York
BEGIN:VEVENT
UID:2081@rsns.org
DTSTART;TZID=America/New_York:20260511T194500
DTEND;TZID=America/New_York:20260511T210000
DTSTAMP:20251113T204503Z
URL:https://www.rsns.org/events/adult-bnei-mitzvah-morah-rebecca-virtual-o
 nly-3/
SUMMARY:Adult B'Nei Mitzvah - (Morah Rebecca) - (Virtual Only)
DESCRIPTION:Text:  “Exploring Judaism” by: Rebecca Alpert &amp\; Jacob
  Staub\n\nSubject:\nChapter 6: Zion as a Spiritual Center\n(And Text to be
  Distributed)\n\n&nbsp\;
CATEGORIES:Adult Studies
LOCATION:https://zoom.us/j/531710576
END:VEVENT
BEGIN:VTIMEZONE
TZID:America/New_York
X-LIC-LOCATION:America/New_York
BEGIN:DAYLIGHT
DTSTART:20260308T030000
TZOFFSETFROM:-0500
TZOFFSETTO:-0400
TZNAME:EDT
END:DAYLIGHT
END:VTIMEZONE
END:VCALENDAR